Package: MAPFX Version: 1.2.0 Command: chmod a+r MAPFX -R && F:\biocbuild\bbs-3.20-bioc\R\bin\R.exe CMD build --keep-empty-dirs --no-resave-data MAPFX StartedAt: 2025-03-31 19:55:01 -0400 (Mon, 31 Mar 2025) EndedAt: 2025-03-31 20:07:34 -0400 (Mon, 31 Mar 2025) EllapsedTime: 753.2 seconds RetCode: 0 Status: OK PackageFile: MAPFX_1.2.0.tar.gz PackageFileSize: 3.543 MiB