Package: MAPFX Version: 1.2.0 Command: /home/biocbuild/bbs-3.20-bioc/R/bin/R CMD build --keep-empty-dirs --no-resave-data --md5 MAPFX StartedAt: 2025-03-31 17:51:27 -0400 (Mon, 31 Mar 2025) EndedAt: 2025-03-31 17:58:44 -0400 (Mon, 31 Mar 2025) EllapsedTime: 437.4 seconds RetCode: 0 Status: OK PackageFile: MAPFX_1.2.0.tar.gz PackageFileSize: 3.545 MiB