Package: MAPFX Version: 1.2.0 Command: rm -rf MAPFX.buildbin-libdir && mkdir MAPFX.buildbin-libdir && /Users/biocbuild/BBS/utils/build-universal.sh MAPFX_1.2.0.tar.gz /Library/Frameworks/R.framework/Resources/bin/R MAPFX.buildbin-libdir StartedAt: 2025-04-02 14:59:40 -0400 (Wed, 02 Apr 2025) EndedAt: 2025-04-02 15:00:09 -0400 (Wed, 02 Apr 2025) EllapsedTime: 28.4 seconds RetCode: 0 Status: OK PackageFile: MAPFX_1.2.0.tgz PackageFileSize: 2.505 MiB