Package: MANOR Version: 1.78.0 Command: /Library/Frameworks/R.framework/Resources/bin/R CMD build --keep-empty-dirs --no-resave-data MANOR StartedAt: 2025-04-01 02:15:34 -0400 (Tue, 01 Apr 2025) EndedAt: 2025-04-01 02:16:20 -0400 (Tue, 01 Apr 2025) EllapsedTime: 46.6 seconds RetCode: 0 Status: OK PackageFile: MANOR_1.78.0.tar.gz PackageFileSize: 1.696 MiB