Package: MANOR Version: 1.78.0 Command: rm -rf MANOR.buildbin-libdir && mkdir MANOR.buildbin-libdir && /Users/biocbuild/BBS/utils/build-universal.sh MANOR_1.78.0.tar.gz /Library/Frameworks/R.framework/Resources/bin/R MANOR.buildbin-libdir StartedAt: 2025-04-02 14:59:34 -0400 (Wed, 02 Apr 2025) EndedAt: 2025-04-02 14:59:40 -0400 (Wed, 02 Apr 2025) EllapsedTime: 6.6 seconds RetCode: 0 Status: OK PackageFile: MANOR_1.78.0.tgz PackageFileSize: 1.782 MiB