Package: MAIT Version: 1.40.0 Command: /Library/Frameworks/R.framework/Resources/bin/R CMD INSTALL MAIT StartedAt: 2025-03-31 17:36:28 -0400 (Mon, 31 Mar 2025) EndedAt: 2025-03-31 17:37:28 -0400 (Mon, 31 Mar 2025) EllapsedTime: 60.0 seconds RetCode: 0 Status: OK