Package: MAI Version: 1.12.0 Command: /home/biocbuild/R/R/bin/R CMD build --keep-empty-dirs --no-resave-data MAI StartedAt: 2025-04-01 00:30:52 -0000 (Tue, 01 Apr 2025) EndedAt: 2025-04-01 00:38:14 -0000 (Tue, 01 Apr 2025) EllapsedTime: 442.2 seconds RetCode: 0 Status: OK PackageFile: MAI_1.12.0.tar.gz PackageFileSize: 519.9 KiB