Package: MAI Version: 1.12.0 Command: /home/biocbuild/bbs-3.20-bioc/R/bin/R CMD check --install=check:MAI.install-out.txt --library=/home/biocbuild/bbs-3.20-bioc/R/site-library --timings MAI_1.12.0.tar.gz StartedAt: 2025-03-31 23:31:08 -0400 (Mon, 31 Mar 2025) EndedAt: 2025-03-31 23:42:10 -0400 (Mon, 31 Mar 2025) EllapsedTime: 661.7 seconds RetCode: 0 Status: OK CheckDir: MAI.Rcheck Warnings: 0