Package: MAI Version: 1.12.0 Command: /Library/Frameworks/R.framework/Resources/bin/R CMD build --keep-empty-dirs --no-resave-data MAI StartedAt: 2025-03-31 19:45:21 -0400 (Mon, 31 Mar 2025) EndedAt: 2025-03-31 19:58:15 -0400 (Mon, 31 Mar 2025) EllapsedTime: 774.1 seconds RetCode: 0 Status: OK PackageFile: MAI_1.12.0.tar.gz PackageFileSize: 452.2 KiB