Package: MAGeCKFlute Version: 2.10.0 Command: /Library/Frameworks/R.framework/Resources/bin/R CMD INSTALL MAGeCKFlute StartedAt: 2025-03-31 16:19:49 -0400 (Mon, 31 Mar 2025) EndedAt: 2025-03-31 16:20:52 -0400 (Mon, 31 Mar 2025) EllapsedTime: 63.4 seconds RetCode: 0 Status: OK