Package: MAGAR Version: 1.14.0 Command: /Library/Frameworks/R.framework/Resources/bin/R CMD check --install=check:MAGAR.install-out.txt --library=/Library/Frameworks/R.framework/Resources/library --no-vignettes --timings MAGAR_1.14.0.tar.gz StartedAt: 2025-04-01 05:03:17 -0400 (Tue, 01 Apr 2025) EndedAt: 2025-04-01 05:19:52 -0400 (Tue, 01 Apr 2025) EllapsedTime: 994.9 seconds RetCode: 0 Status: OK CheckDir: MAGAR.Rcheck Warnings: 0