Package: MAGAR Version: 1.14.0 Command: rm -rf MAGAR.buildbin-libdir && mkdir MAGAR.buildbin-libdir && /Users/biocbuild/BBS/utils/build-universal.sh MAGAR_1.14.0.tar.gz /Library/Frameworks/R.framework/Resources/bin/R MAGAR.buildbin-libdir StartedAt: 2025-04-01 12:09:42 -0400 (Tue, 01 Apr 2025) EndedAt: 2025-04-01 12:12:01 -0400 (Tue, 01 Apr 2025) EllapsedTime: 139.1 seconds RetCode: 0 Status: OK PackageFile: MAGAR_1.14.0.tgz PackageFileSize: 1.553 MiB