Package: MACSr Version: 1.14.0 Command: /Library/Frameworks/R.framework/Resources/bin/R CMD build --keep-empty-dirs --no-resave-data MACSr StartedAt: 2025-04-01 02:10:32 -0400 (Tue, 01 Apr 2025) EndedAt: 2025-04-01 02:11:22 -0400 (Tue, 01 Apr 2025) EllapsedTime: 49.6 seconds RetCode: 0 Status: OK PackageFile: MACSr_1.14.0.tar.gz PackageFileSize: 5.112 MiB