Package: M3Drop Version: 1.32.0 Command: /home/biocbuild/R/R/bin/R CMD build --keep-empty-dirs --no-resave-data M3Drop StartedAt: 2025-04-01 00:29:42 -0000 (Tue, 01 Apr 2025) EndedAt: 2025-04-01 00:32:07 -0000 (Tue, 01 Apr 2025) EllapsedTime: 145.1 seconds RetCode: 0 Status: OK PackageFile: M3Drop_1.32.0.tar.gz PackageFileSize: 12.24 MiB