Package: M3C Version: 1.28.0 Command: /home/biocbuild/R/R/bin/R CMD INSTALL M3C StartedAt: 2025-03-31 20:18:57 -0000 (Mon, 31 Mar 2025) EndedAt: 2025-03-31 20:19:08 -0000 (Mon, 31 Mar 2025) EllapsedTime: 10.6 seconds RetCode: 0 Status: OK