Package: M3C Version: 1.28.0 Command: /Library/Frameworks/R.framework/Resources/bin/R CMD build --keep-empty-dirs --no-resave-data M3C StartedAt: 2025-03-31 19:43:42 -0400 (Mon, 31 Mar 2025) EndedAt: 2025-03-31 19:45:21 -0400 (Mon, 31 Mar 2025) EllapsedTime: 98.4 seconds RetCode: 0 Status: OK PackageFile: M3C_1.28.0.tar.gz PackageFileSize: 588.7 KiB