Package: LiquidAssociation Version: 1.60.0 Command: F:\biocbuild\bbs-3.20-bioc\R\bin\R.exe CMD check --no-multiarch --install=check:LiquidAssociation.install-out.txt --library=F:\biocbuild\bbs-3.20-bioc\R\library --no-vignettes --timings LiquidAssociation_1.60.0.tar.gz StartedAt: 2025-04-01 02:56:27 -0400 (Tue, 01 Apr 2025) EndedAt: 2025-04-01 02:58:31 -0400 (Tue, 01 Apr 2025) EllapsedTime: 124.1 seconds RetCode: 0 Status: OK CheckDir: LiquidAssociation.Rcheck Warnings: 0