Package: LiquidAssociation Version: 1.60.0 Command: chmod a+r LiquidAssociation -R && F:\biocbuild\bbs-3.20-bioc\R\bin\R.exe CMD build --keep-empty-dirs --no-resave-data LiquidAssociation StartedAt: 2025-03-31 19:51:45 -0400 (Mon, 31 Mar 2025) EndedAt: 2025-03-31 19:52:27 -0400 (Mon, 31 Mar 2025) EllapsedTime: 41.6 seconds RetCode: 0 Status: OK PackageFile: LiquidAssociation_1.60.0.tar.gz PackageFileSize: 174.4 KiB