Package: LiquidAssociation Version: 1.60.0 Command: rm -rf LiquidAssociation.buildbin-libdir && mkdir LiquidAssociation.buildbin-libdir && F:\biocbuild\bbs-3.20-bioc\R\bin\R.exe CMD INSTALL --build --library=LiquidAssociation.buildbin-libdir LiquidAssociation_1.60.0.tar.gz StartedAt: 2025-04-01 08:30:11 -0400 (Tue, 01 Apr 2025) EndedAt: 2025-04-01 08:32:20 -0400 (Tue, 01 Apr 2025) EllapsedTime: 129.1 seconds RetCode: 0 Status: OK PackageFile: LiquidAssociation_1.60.0.zip PackageFileSize: 396.9 KiB