Package: Linnorm Version: 2.30.0 Command: /home/biocbuild/R/R/bin/R CMD check --install=check:Linnorm.install-out.txt --library=/home/biocbuild/R/R/site-library --no-vignettes --timings Linnorm_2.30.0.tar.gz StartedAt: 2025-04-01 07:49:42 -0000 (Tue, 01 Apr 2025) EndedAt: 2025-04-01 07:57:14 -0000 (Tue, 01 Apr 2025) EllapsedTime: 452.7 seconds RetCode: 0 Status: OK CheckDir: Linnorm.Rcheck Warnings: 0