Package: Linnorm Version: 2.30.0 Command: /Library/Frameworks/R.framework/Resources/bin/R CMD INSTALL Linnorm StartedAt: 2025-03-31 15:33:25 -0400 (Mon, 31 Mar 2025) EndedAt: 2025-03-31 15:33:47 -0400 (Mon, 31 Mar 2025) EllapsedTime: 22.4 seconds RetCode: 0 Status: OK