Package: Linnorm Version: 2.30.0 Command: /Library/Frameworks/R.framework/Resources/bin/R CMD check --install=check:Linnorm.install-out.txt --library=/Library/Frameworks/R.framework/Resources/library --no-vignettes --timings Linnorm_2.30.0.tar.gz StartedAt: 2025-04-01 23:12:47 -0400 (Tue, 01 Apr 2025) EndedAt: 2025-04-01 23:18:26 -0400 (Tue, 01 Apr 2025) EllapsedTime: 339.1 seconds RetCode: 0 Status: OK CheckDir: Linnorm.Rcheck Warnings: 0