Package: Linnorm Version: 2.30.0 Command: /Library/Frameworks/R.framework/Resources/bin/R CMD build --keep-empty-dirs --no-resave-data Linnorm StartedAt: 2025-04-01 02:03:07 -0400 (Tue, 01 Apr 2025) EndedAt: 2025-04-01 02:07:32 -0400 (Tue, 01 Apr 2025) EllapsedTime: 265.6 seconds RetCode: 0 Status: OK PackageFile: Linnorm_2.30.0.tar.gz PackageFileSize: 4.107 MiB