Package: LinkHD Version: 1.20.0 Command: /home/biocbuild/R/R/bin/R CMD INSTALL LinkHD StartedAt: 2025-03-31 21:09:04 -0000 (Mon, 31 Mar 2025) EndedAt: 2025-03-31 21:09:39 -0000 (Mon, 31 Mar 2025) EllapsedTime: 34.7 seconds RetCode: 0 Status: OK