Package: LinkHD Version: 1.20.0 Command: /Library/Frameworks/R.framework/Resources/bin/R CMD INSTALL LinkHD StartedAt: 2025-03-31 16:36:51 -0400 (Mon, 31 Mar 2025) EndedAt: 2025-03-31 16:37:47 -0400 (Mon, 31 Mar 2025) EllapsedTime: 56.0 seconds RetCode: 0 Status: OK