Package: LinkHD Version: 1.20.0 Command: /Library/Frameworks/R.framework/Resources/bin/R CMD build --keep-empty-dirs --no-resave-data LinkHD StartedAt: 2025-03-31 19:41:31 -0400 (Mon, 31 Mar 2025) EndedAt: 2025-03-31 19:43:30 -0400 (Mon, 31 Mar 2025) EllapsedTime: 119.5 seconds RetCode: 0 Status: OK PackageFile: LinkHD_1.20.0.tar.gz PackageFileSize: 2.371 MiB