Package: LinTInd Version: 1.10.0 Command: F:\biocbuild\bbs-3.20-bioc\R\bin\R.exe CMD INSTALL LinTInd StartedAt: 2025-03-31 15:41:33 -0400 (Mon, 31 Mar 2025) EndedAt: 2025-03-31 15:42:03 -0400 (Mon, 31 Mar 2025) EllapsedTime: 30.7 seconds RetCode: 0 Status: OK