Package: LinTInd Version: 1.10.0 Command: /Library/Frameworks/R.framework/Resources/bin/R CMD build --keep-empty-dirs --no-resave-data LinTInd StartedAt: 2025-04-01 02:04:03 -0400 (Tue, 01 Apr 2025) EndedAt: 2025-04-01 02:04:55 -0400 (Tue, 01 Apr 2025) EllapsedTime: 52.0 seconds RetCode: 0 Status: OK PackageFile: LinTInd_1.10.0.tar.gz PackageFileSize: 1.573 MiB