Package: LRBaseDbi Version: 2.16.0 Command: /home/biocbuild/R/R/bin/R CMD build --keep-empty-dirs --no-resave-data LRBaseDbi StartedAt: 2025-04-01 00:29:12 -0000 (Tue, 01 Apr 2025) EndedAt: 2025-04-01 00:29:47 -0000 (Tue, 01 Apr 2025) EllapsedTime: 35.0 seconds RetCode: 0 Status: OK PackageFile: LRBaseDbi_2.16.0.tar.gz PackageFileSize: 139.1 KiB