Package: LRBaseDbi Version: 2.16.0 Command: F:\biocbuild\bbs-3.20-bioc\R\bin\R.exe CMD INSTALL LRBaseDbi StartedAt: 2025-03-31 15:47:10 -0400 (Mon, 31 Mar 2025) EndedAt: 2025-03-31 15:47:48 -0400 (Mon, 31 Mar 2025) EllapsedTime: 38.0 seconds RetCode: 0 Status: OK