Package: LRBaseDbi Version: 2.16.0 Command: chmod a+r LRBaseDbi -R && F:\biocbuild\bbs-3.20-bioc\R\bin\R.exe CMD build --keep-empty-dirs --no-resave-data LRBaseDbi StartedAt: 2025-03-31 19:52:46 -0400 (Mon, 31 Mar 2025) EndedAt: 2025-03-31 19:53:36 -0400 (Mon, 31 Mar 2025) EllapsedTime: 50.0 seconds RetCode: 0 Status: OK PackageFile: LRBaseDbi_2.16.0.tar.gz PackageFileSize: 147 KiB