Package: LRBaseDbi Version: 2.16.0 Command: rm -rf LRBaseDbi.buildbin-libdir && mkdir LRBaseDbi.buildbin-libdir && F:\biocbuild\bbs-3.20-bioc\R\bin\R.exe CMD INSTALL --build --library=LRBaseDbi.buildbin-libdir LRBaseDbi_2.16.0.tar.gz StartedAt: 2025-04-01 08:30:48 -0400 (Tue, 01 Apr 2025) EndedAt: 2025-04-01 08:31:23 -0400 (Tue, 01 Apr 2025) EllapsedTime: 35.0 seconds RetCode: 0 Status: OK PackageFile: LRBaseDbi_2.16.0.zip PackageFileSize: 560.5 KiB