Package: LRBaseDbi Version: 2.16.0 Command: rm -rf LRBaseDbi.buildbin-libdir && mkdir LRBaseDbi.buildbin-libdir && /Users/biocbuild/BBS/utils/build-universal.sh LRBaseDbi_2.16.0.tar.gz /Library/Frameworks/R.framework/Resources/bin/R LRBaseDbi.buildbin-libdir StartedAt: 2025-04-01 12:09:15 -0400 (Tue, 01 Apr 2025) EndedAt: 2025-04-01 12:09:43 -0400 (Tue, 01 Apr 2025) EllapsedTime: 27.6 seconds RetCode: 0 Status: OK PackageFile: LRBaseDbi_2.16.0.tgz PackageFileSize: 565.7 KiB