Package: LRBaseDbi Version: 2.16.0 Command: /Library/Frameworks/R.framework/Resources/bin/R CMD check --install=check:LRBaseDbi.install-out.txt --library=/Library/Frameworks/R.framework/Resources/library --no-vignettes --timings LRBaseDbi_2.16.0.tar.gz StartedAt: 2025-04-01 23:20:13 -0400 (Tue, 01 Apr 2025) EndedAt: 2025-04-01 23:22:07 -0400 (Tue, 01 Apr 2025) EllapsedTime: 114.0 seconds RetCode: 0 Status: OK CheckDir: LRBaseDbi.Rcheck Warnings: 0