Package: LPE Version: 1.80.0 Command: F:\biocbuild\bbs-3.20-bioc\R\bin\R.exe CMD INSTALL LPE StartedAt: 2025-03-31 15:22:07 -0400 (Mon, 31 Mar 2025) EndedAt: 2025-03-31 15:22:22 -0400 (Mon, 31 Mar 2025) EllapsedTime: 15.2 seconds RetCode: 0 Status: OK