Package: LPE Version: 1.80.0 Command: /Library/Frameworks/R.framework/Resources/bin/R CMD build --keep-empty-dirs --no-resave-data LPE StartedAt: 2025-04-01 02:06:18 -0400 (Tue, 01 Apr 2025) EndedAt: 2025-04-01 02:06:32 -0400 (Tue, 01 Apr 2025) EllapsedTime: 13.8 seconds RetCode: 0 Status: OK PackageFile: LPE_1.80.0.tar.gz PackageFileSize: 436.7 KiB