Package: LOLA Version: 1.36.0 Command: rm -rf LOLA.buildbin-libdir && mkdir LOLA.buildbin-libdir && F:\biocbuild\bbs-3.20-bioc\R\bin\R.exe CMD INSTALL --build --library=LOLA.buildbin-libdir LOLA_1.36.0.tar.gz StartedAt: 2025-04-01 08:30:39 -0400 (Tue, 01 Apr 2025) EndedAt: 2025-04-01 08:31:10 -0400 (Tue, 01 Apr 2025) EllapsedTime: 31.2 seconds RetCode: 0 Status: OK PackageFile: LOLA_1.36.0.zip PackageFileSize: 1.199 MiB