Package: LBE Version: 1.74.0 Command: /home/biocbuild/R/R/bin/R CMD INSTALL LBE StartedAt: 2025-03-31 20:11:29 -0000 (Mon, 31 Mar 2025) EndedAt: 2025-03-31 20:11:47 -0000 (Mon, 31 Mar 2025) EllapsedTime: 18.0 seconds RetCode: 0 Status: OK