Package: LBE Version: 1.74.0 Command: /home/biocbuild/bbs-3.20-bioc/R/bin/R CMD INSTALL LBE StartedAt: 2025-03-31 15:09:05 -0400 (Mon, 31 Mar 2025) EndedAt: 2025-03-31 15:09:10 -0400 (Mon, 31 Mar 2025) EllapsedTime: 4.6 seconds RetCode: 0 Status: OK