Package: LBE Version: 1.74.0 Command: /home/biocbuild/bbs-3.20-bioc/R/bin/R CMD build --keep-empty-dirs --no-resave-data --md5 LBE StartedAt: 2025-03-31 17:48:03 -0400 (Mon, 31 Mar 2025) EndedAt: 2025-03-31 17:48:09 -0400 (Mon, 31 Mar 2025) EllapsedTime: 6.0 seconds RetCode: 0 Status: OK PackageFile: LBE_1.74.0.tar.gz PackageFileSize: 784.9 KiB