Package: LBE Version: 1.74.0 Command: /Library/Frameworks/R.framework/Resources/bin/R CMD build --keep-empty-dirs --no-resave-data LBE StartedAt: 2025-03-31 19:40:18 -0400 (Mon, 31 Mar 2025) EndedAt: 2025-03-31 19:40:36 -0400 (Mon, 31 Mar 2025) EllapsedTime: 18.5 seconds RetCode: 0 Status: OK PackageFile: LBE_1.74.0.tar.gz PackageFileSize: 784.1 KiB