Package: LBE Version: 1.74.0 Command: /Library/Frameworks/R.framework/Resources/bin/R CMD check --install=check:LBE.install-out.txt --library=/Library/Frameworks/R.framework/Resources/library --no-vignettes --timings LBE_1.74.0.tar.gz StartedAt: 2025-04-01 23:07:37 -0400 (Tue, 01 Apr 2025) EndedAt: 2025-04-01 23:08:02 -0400 (Tue, 01 Apr 2025) EllapsedTime: 24.9 seconds RetCode: 0 Status: OK CheckDir: LBE.Rcheck Warnings: 0