Package: LACE Version: 2.10.0 Command: F:\biocbuild\bbs-3.20-bioc\R\bin\R.exe CMD INSTALL LACE StartedAt: 2025-03-31 16:22:58 -0400 (Mon, 31 Mar 2025) EndedAt: 2025-03-31 16:23:56 -0400 (Mon, 31 Mar 2025) EllapsedTime: 57.3 seconds RetCode: 0 Status: OK