Package: LACE Version: 2.10.0 Command: chmod a+r LACE -R && F:\biocbuild\bbs-3.20-bioc\R\bin\R.exe CMD build --keep-empty-dirs --no-resave-data LACE StartedAt: 2025-03-31 19:49:25 -0400 (Mon, 31 Mar 2025) EndedAt: 2025-03-31 19:50:45 -0400 (Mon, 31 Mar 2025) EllapsedTime: 79.5 seconds RetCode: 0 Status: OK PackageFile: LACE_2.10.0.tar.gz PackageFileSize: 3.964 MiB