Package: KinSwingR Version: 1.24.0 Command: /Library/Frameworks/R.framework/Resources/bin/R CMD check --install=check:KinSwingR.install-out.txt --library=/Library/Frameworks/R.framework/Resources/library --no-vignettes --timings KinSwingR_1.24.0.tar.gz StartedAt: 2025-04-01 04:49:25 -0400 (Tue, 01 Apr 2025) EndedAt: 2025-04-01 04:50:45 -0400 (Tue, 01 Apr 2025) EllapsedTime: 80.1 seconds RetCode: 0 Status: OK CheckDir: KinSwingR.Rcheck Warnings: 0