Package: KEGGgraph Version: 1.66.0 Command: /home/biocbuild/R/R/bin/R CMD INSTALL KEGGgraph StartedAt: 2025-03-31 20:16:17 -0000 (Mon, 31 Mar 2025) EndedAt: 2025-03-31 20:16:41 -0000 (Mon, 31 Mar 2025) EllapsedTime: 23.7 seconds RetCode: 0 Status: OK