Package: KEGGgraph Version: 1.66.0 Command: F:\biocbuild\bbs-3.20-bioc\R\bin\R.exe CMD check --no-multiarch --install=check:KEGGgraph.install-out.txt --library=F:\biocbuild\bbs-3.20-bioc\R\library --no-vignettes --timings KEGGgraph_1.66.0.tar.gz StartedAt: 2025-04-01 02:50:38 -0400 (Tue, 01 Apr 2025) EndedAt: 2025-04-01 02:52:19 -0400 (Tue, 01 Apr 2025) EllapsedTime: 101.2 seconds RetCode: 0 Status: WARNINGS CheckDir: KEGGgraph.Rcheck Warnings: 1