Package: KEGGgraph Version: 1.66.0 Command: /home/biocbuild/bbs-3.20-bioc/R/bin/R CMD check --install=check:KEGGgraph.install-out.txt --library=/home/biocbuild/bbs-3.20-bioc/R/site-library --timings KEGGgraph_1.66.0.tar.gz StartedAt: 2025-03-31 23:21:26 -0400 (Mon, 31 Mar 2025) EndedAt: 2025-03-31 23:23:08 -0400 (Mon, 31 Mar 2025) EllapsedTime: 102.1 seconds RetCode: 0 Status: WARNINGS CheckDir: KEGGgraph.Rcheck Warnings: 1