Package: KEGGgraph Version: 1.66.0 Command: /Library/Frameworks/R.framework/Resources/bin/R CMD INSTALL KEGGgraph StartedAt: 2025-03-31 15:10:07 -0400 (Mon, 31 Mar 2025) EndedAt: 2025-03-31 15:10:38 -0400 (Mon, 31 Mar 2025) EllapsedTime: 31.8 seconds RetCode: 0 Status: OK