Package: KEGGgraph Version: 1.66.0 Command: /Library/Frameworks/R.framework/Resources/bin/R CMD build --keep-empty-dirs --no-resave-data KEGGgraph StartedAt: 2025-03-31 19:38:58 -0400 (Mon, 31 Mar 2025) EndedAt: 2025-03-31 19:40:09 -0400 (Mon, 31 Mar 2025) EllapsedTime: 71.8 seconds RetCode: 0 Status: OK PackageFile: KEGGgraph_1.66.0.tar.gz PackageFileSize: 1.315 MiB